BEGIN:VCALENDAR
PRODID:-//github.com/rianjs/ical.net//NONSGML ical.net 4.0//EN
VERSION:2.0
BEGIN:VEVENT
DESCRIPTION:Skolekonsert  kulturelle skolesekk 9. trinn
DTEND:20200115T000000
DTSTAMP:20260424T031433Z
DTSTART:20200115T000000
SEQUENCE:0
SUMMARY:Skolekonsert  kulturelle skolesekk 9. trinn
UID:b4d07764-3d12-4db5-a89c-44239fb204cf
END:VEVENT
END:VCALENDAR
